BEGIN:VCALENDAR
VERSION:2.0
PRODID:-//Cartt.ca - ECPv6.15.14//NONSGML v1.0//EN
CALSCALE:GREGORIAN
METHOD:PUBLISH
X-ORIGINAL-URL:https://cartt.ca
X-WR-CALDESC:Events for Cartt.ca
REFRESH-INTERVAL;VALUE=DURATION:PT1H
X-Robots-Tag:noindex
X-PUBLISHED-TTL:PT1H
BEGIN:VTIMEZONE
TZID:America/Vancouver
BEGIN:DAYLIGHT
TZOFFSETFROM:-0800
TZOFFSETTO:-0700
TZNAME:PDT
DTSTART:20250309T100000
END:DAYLIGHT
BEGIN:STANDARD
TZOFFSETFROM:-0700
TZOFFSETTO:-0800
TZNAME:PST
DTSTART:20251102T090000
END:STANDARD
BEGIN:DAYLIGHT
TZOFFSETFROM:-0800
TZOFFSETTO:-0700
TZNAME:PDT
DTSTART:20260308T100000
END:DAYLIGHT
BEGIN:STANDARD
TZOFFSETFROM:-0700
TZOFFSETTO:-0800
TZNAME:PST
DTSTART:20261101T090000
END:STANDARD
BEGIN:DAYLIGHT
TZOFFSETFROM:-0800
TZOFFSETTO:-0700
TZNAME:PDT
DTSTART:20270314T100000
END:DAYLIGHT
BEGIN:STANDARD
TZOFFSETFROM:-0700
TZOFFSETTO:-0800
TZNAME:PST
DTSTART:20271107T090000
END:STANDARD
END:VTIMEZONE
BEGIN:VEVENT
DTSTART;VALUE=DATE:20260602
DTEND;VALUE=DATE:20260605
DTSTAMP:20260420T033037
CREATED:20260205T223412Z
LAST-MODIFIED:20260206T035056Z
UID:386456-1780358400-1780617599@cartt.ca
SUMMARY:CABSAT
DESCRIPTION:CABSAT was established in 1993 and has evolved to align with the latest trends and technologies in the Media & communications industry in the MEASA region. This annual event is held concurrently with SATEXPO and serves as a platform for the global media\, entertainment\, and technology industry. CABSAT 2026 is no exception\, with the CABSAT team working diligently to deliver another spectacular event. \nOver 120 countries will participate in the event\, providing critical insights\, facilitating knowledge sharing\, building relationships\, and finding future clients or partners within the industry. The Dubai World Trade Centre\, in partnership with key stakeholders from the MEASA media industry\, organises the annual show\, which includes leading-edge presentations\, panel discussions\, exhibitions workshops\, product demonstrations\, and technology master classes\, as well as a diverse culture of knowledge sharing.
URL:https://cartt.ca/event/cabsat/
LOCATION:The Dubai Exhibition Centre\, Expo 2020 Metro Station\, Dubai\, United Arab Emirates
ATTACH;FMTTYPE=image/jpeg:https://cartt.ca/wp-content/uploads/2026/02/CABSAT2023.jpg
END:VEVENT
BEGIN:VEVENT
DTSTART;VALUE=DATE:20260603
DTEND;VALUE=DATE:20260605
DTSTAMP:20260420T033037
CREATED:20260205T223413Z
LAST-MODIFIED:20260212T210130Z
UID:386457-1780444800-1780617599@cartt.ca
SUMMARY:FWD -  Western Canada Media Conference
DESCRIPTION:Introducing FWD – Western Canada Media Conference \nThe Western Association of Broadcasters (WAB) and the British Columbia Association of Broadcasters (BCAB) are coming together to launch FWD. This new joint conference looks boldly to the future of media in Western Canada. \nFWD symbolizes progress\, innovation\, and a collective drive to move our industry forward. This event will bring together media professionals\, industry leaders\, and creative thinkers to explore what’s next — from emerging technologies to new models of storytelling and audience engagement. \nOur Future Vision speaker series will feature voices both from within broadcasting and from parallel industries that have faced transformative change and emerged stronger\, more innovative\, and more connected. \nJoin us in Kelowna as we look ahead\, exchange ideas\, and shape the future of media — together. \nFind Out More >
URL:https://cartt.ca/event/fwd-western-canada-media-conference/
LOCATION:Manteo at Eldorado Resor\, 3762 Lakeshore Rd\, Kelowna\, British Columbia\, V1W 3L4\, Canada
ATTACH;FMTTYPE=image/png:https://cartt.ca/wp-content/uploads/2026/02/fwd-conference.png
END:VEVENT
END:VCALENDAR